1.123837977386716
0.011989490663005024
0.012439868744509813
-1.1416770214957492
480388.08323394967
4981092.9444279
