0.90015488477290717
-7.3095508977328922e-006
-7.3095508977328922e-006
-0.90015488477290717
480473.4009006932
4981250.7159473021
