0.61651299363619128
0.025544747396873943
-0.0072715401461474647
-0.62771324049350274
481029.45319333643
4980876.7325066729
