0.9179311121
-0.0288972275
-0.0567777954
-0.9209390209
1194372.6083567173
15167563.3662890510
